BEGIN:VCALENDAR
VERSION:2.0
PRODID:-//First Church of Christ, Scientist Williamsburg, Virginia - ECPv6.15.20//NONSGML v1.0//EN
CALSCALE:GREGORIAN
METHOD:PUBLISH
X-WR-CALNAME:First Church of Christ, Scientist Williamsburg, Virginia
X-ORIGINAL-URL:https://cswilliamsburg.org
X-WR-CALDESC:Events for First Church of Christ, Scientist Williamsburg, Virginia
REFRESH-INTERVAL;VALUE=DURATION:PT1H
X-Robots-Tag:noindex
X-PUBLISHED-TTL:PT1H
BEGIN:VTIMEZONE
TZID:America/New_York
BEGIN:DAYLIGHT
TZOFFSETFROM:-0500
TZOFFSETTO:-0400
TZNAME:EDT
DTSTART:20250309T070000
END:DAYLIGHT
BEGIN:STANDARD
TZOFFSETFROM:-0400
TZOFFSETTO:-0500
TZNAME:EST
DTSTART:20251102T060000
END:STANDARD
BEGIN:DAYLIGHT
TZOFFSETFROM:-0500
TZOFFSETTO:-0400
TZNAME:EDT
DTSTART:20260308T070000
END:DAYLIGHT
BEGIN:STANDARD
TZOFFSETFROM:-0400
TZOFFSETTO:-0500
TZNAME:EST
DTSTART:20261101T060000
END:STANDARD
BEGIN:DAYLIGHT
TZOFFSETFROM:-0500
TZOFFSETTO:-0400
TZNAME:EDT
DTSTART:20270314T070000
END:DAYLIGHT
BEGIN:STANDARD
TZOFFSETFROM:-0400
TZOFFSETTO:-0500
TZNAME:EST
DTSTART:20271107T060000
END:STANDARD
END:VTIMEZONE
BEGIN:VEVENT
DTSTART;TZID=America/New_York:20260503T110000
DTEND;TZID=America/New_York:20260503T120000
DTSTAMP:20260424T133502
CREATED:20260321T150033Z
LAST-MODIFIED:20260321T150033Z
UID:10001244-1777806000-1777809600@cswilliamsburg.org
SUMMARY:In-person & Online Church Service - Subject: Everlasting Punishment
DESCRIPTION:
URL:https://cswilliamsburg.org/event/in-person-online-church-service-subject-everlasting-punishment-8/
LOCATION:First Church of Christ\, Scientist\, 620 Jamestown Road\, Williamsburg\, VA\, 23185\, United States
END:VEVENT
BEGIN:VEVENT
DTSTART;TZID=America/New_York:20260506T190000
DTEND;TZID=America/New_York:20260506T200000
DTSTAMP:20260424T133502
CREATED:20260321T151630Z
LAST-MODIFIED:20260321T151630Z
UID:10001258-1778094000-1778097600@cswilliamsburg.org
SUMMARY:In-person & Online Testimony Meeting
DESCRIPTION:
URL:https://cswilliamsburg.org/event/in-person-online-testimony-meeting-211/
LOCATION:First Church of Christ\, Scientist\, 620 Jamestown Road\, Williamsburg\, VA\, 23185\, United States
END:VEVENT
BEGIN:VEVENT
DTSTART;TZID=America/New_York:20260510T110000
DTEND;TZID=America/New_York:20260510T120000
DTSTAMP:20260424T133502
CREATED:20260321T150132Z
LAST-MODIFIED:20260321T150132Z
UID:10001245-1778410800-1778414400@cswilliamsburg.org
SUMMARY:In-person & Online Church Service - Subject: Adam and Fallen Man
DESCRIPTION:
URL:https://cswilliamsburg.org/event/in-person-online-church-service-subject-adam-and-fallen-man-8/
LOCATION:First Church of Christ\, Scientist\, 620 Jamestown Road\, Williamsburg\, VA\, 23185\, United States
END:VEVENT
BEGIN:VEVENT
DTSTART;TZID=America/New_York:20260513T190000
DTEND;TZID=America/New_York:20260513T200000
DTSTAMP:20260424T133502
CREATED:20260321T151723Z
LAST-MODIFIED:20260321T151723Z
UID:10001259-1778698800-1778702400@cswilliamsburg.org
SUMMARY:In-person & Online Testimony Meeting
DESCRIPTION:
URL:https://cswilliamsburg.org/event/in-person-online-testimony-meeting-212/
LOCATION:First Church of Christ\, Scientist\, 620 Jamestown Road\, Williamsburg\, VA\, 23185\, United States
END:VEVENT
BEGIN:VEVENT
DTSTART;TZID=America/New_York:20260517T110000
DTEND;TZID=America/New_York:20260517T120000
DTSTAMP:20260424T133502
CREATED:20260321T150230Z
LAST-MODIFIED:20260321T150230Z
UID:10001246-1779015600-1779019200@cswilliamsburg.org
SUMMARY:In-person & Online Church Service - Subject: Mortals and Immortals
DESCRIPTION:
URL:https://cswilliamsburg.org/event/in-person-online-church-service-subject-mortals-and-immortals-8/
LOCATION:First Church of Christ\, Scientist\, 620 Jamestown Road\, Williamsburg\, VA\, 23185\, United States
END:VEVENT
BEGIN:VEVENT
DTSTART;TZID=America/New_York:20260520T190000
DTEND;TZID=America/New_York:20260520T200000
DTSTAMP:20260424T133502
CREATED:20260321T151813Z
LAST-MODIFIED:20260321T151813Z
UID:10001260-1779303600-1779307200@cswilliamsburg.org
SUMMARY:In-person & Online Testimony Meeting
DESCRIPTION:
URL:https://cswilliamsburg.org/event/in-person-online-testimony-meeting-213/
LOCATION:First Church of Christ\, Scientist\, 620 Jamestown Road\, Williamsburg\, VA\, 23185\, United States
END:VEVENT
BEGIN:VEVENT
DTSTART;TZID=America/New_York:20260524T110000
DTEND;TZID=America/New_York:20260524T120000
DTSTAMP:20260424T133502
CREATED:20260321T150332Z
LAST-MODIFIED:20260321T150332Z
UID:10001247-1779620400-1779624000@cswilliamsburg.org
SUMMARY:In-person & Online Church Service - Subject: Soul and Body
DESCRIPTION:
URL:https://cswilliamsburg.org/event/in-person-online-church-service-subject-soul-and-body-8/
LOCATION:First Church of Christ\, Scientist\, 620 Jamestown Road\, Williamsburg\, VA\, 23185\, United States
END:VEVENT
BEGIN:VEVENT
DTSTART;TZID=America/New_York:20260527T190000
DTEND;TZID=America/New_York:20260527T200000
DTSTAMP:20260424T133502
CREATED:20260321T151904Z
LAST-MODIFIED:20260321T151904Z
UID:10001261-1779908400-1779912000@cswilliamsburg.org
SUMMARY:In-person & Online Testimony Meeting
DESCRIPTION:
URL:https://cswilliamsburg.org/event/in-person-online-testimony-meeting-214/
LOCATION:First Church of Christ\, Scientist\, 620 Jamestown Road\, Williamsburg\, VA\, 23185\, United States
END:VEVENT
BEGIN:VEVENT
DTSTART;TZID=America/New_York:20260531T110000
DTEND;TZID=America/New_York:20260531T120000
DTSTAMP:20260424T133502
CREATED:20260321T150522Z
LAST-MODIFIED:20260321T150522Z
UID:10001248-1780225200-1780228800@cswilliamsburg.org
SUMMARY:In-person & Online Church Service - Subject: Ancient and Modern Necromancy\, alias Mesmerism and Hypnotism\, Denounced
DESCRIPTION:
URL:https://cswilliamsburg.org/event/in-person-online-church-service-subject-ancient-and-modern-necromancy-alias-mesmerism-and-hypnotism-denounced-8/
LOCATION:First Church of Christ\, Scientist\, 620 Jamestown Road\, Williamsburg\, VA\, 23185\, United States
END:VEVENT
END:VCALENDAR