BEGIN:VCALENDAR
VERSION:2.0
PRODID:-//First Church of Christ, Scientist Williamsburg, Virginia - ECPv6.15.20//NONSGML v1.0//EN
CALSCALE:GREGORIAN
METHOD:PUBLISH
X-WR-CALNAME:First Church of Christ, Scientist Williamsburg, Virginia
X-ORIGINAL-URL:https://cswilliamsburg.org
X-WR-CALDESC:Events for First Church of Christ, Scientist Williamsburg, Virginia
REFRESH-INTERVAL;VALUE=DURATION:PT1H
X-Robots-Tag:noindex
X-PUBLISHED-TTL:PT1H
BEGIN:VTIMEZONE
TZID:America/New_York
BEGIN:DAYLIGHT
TZOFFSETFROM:-0500
TZOFFSETTO:-0400
TZNAME:EDT
DTSTART:20250309T070000
END:DAYLIGHT
BEGIN:STANDARD
TZOFFSETFROM:-0400
TZOFFSETTO:-0500
TZNAME:EST
DTSTART:20251102T060000
END:STANDARD
BEGIN:DAYLIGHT
TZOFFSETFROM:-0500
TZOFFSETTO:-0400
TZNAME:EDT
DTSTART:20260308T070000
END:DAYLIGHT
BEGIN:STANDARD
TZOFFSETFROM:-0400
TZOFFSETTO:-0500
TZNAME:EST
DTSTART:20261101T060000
END:STANDARD
BEGIN:DAYLIGHT
TZOFFSETFROM:-0500
TZOFFSETTO:-0400
TZNAME:EDT
DTSTART:20270314T070000
END:DAYLIGHT
BEGIN:STANDARD
TZOFFSETFROM:-0400
TZOFFSETTO:-0500
TZNAME:EST
DTSTART:20271107T060000
END:STANDARD
END:VTIMEZONE
BEGIN:VEVENT
DTSTART;TZID=America/New_York:20260603T190000
DTEND;TZID=America/New_York:20260603T200000
DTSTAMP:20260424T165307
CREATED:20260321T152003Z
LAST-MODIFIED:20260321T152003Z
UID:10001262-1780513200-1780516800@cswilliamsburg.org
SUMMARY:In-person & Online Testimony Meeting
DESCRIPTION:
URL:https://cswilliamsburg.org/event/in-person-online-testimony-meeting-215/
LOCATION:First Church of Christ\, Scientist\, 620 Jamestown Road\, Williamsburg\, VA\, 23185\, United States
END:VEVENT
BEGIN:VEVENT
DTSTART;TZID=America/New_York:20260607T110000
DTEND;TZID=America/New_York:20260607T120000
DTSTAMP:20260424T165307
CREATED:20260321T150635Z
LAST-MODIFIED:20260321T150635Z
UID:10001249-1780830000-1780833600@cswilliamsburg.org
SUMMARY:In-person & Online Church Service - Subject: God the Only Cause and Creator
DESCRIPTION:
URL:https://cswilliamsburg.org/event/in-person-online-church-service-subject-god-the-only-cause-and-creator-8/
LOCATION:First Church of Christ\, Scientist\, 620 Jamestown Road\, Williamsburg\, VA\, 23185\, United States
END:VEVENT
BEGIN:VEVENT
DTSTART;TZID=America/New_York:20260610T190000
DTEND;TZID=America/New_York:20260610T200000
DTSTAMP:20260424T165307
CREATED:20260321T152103Z
LAST-MODIFIED:20260321T152103Z
UID:10001263-1781118000-1781121600@cswilliamsburg.org
SUMMARY:In-person & Online Testimony Meeting
DESCRIPTION:
URL:https://cswilliamsburg.org/event/in-person-online-testimony-meeting-216/
LOCATION:First Church of Christ\, Scientist\, 620 Jamestown Road\, Williamsburg\, VA\, 23185\, United States
END:VEVENT
BEGIN:VEVENT
DTSTART;TZID=America/New_York:20260614T110000
DTEND;TZID=America/New_York:20260614T120000
DTSTAMP:20260424T165307
CREATED:20260321T150741Z
LAST-MODIFIED:20260321T150741Z
UID:10001250-1781434800-1781438400@cswilliamsburg.org
SUMMARY:In-person & Online Church Service - Subject: God the Preserver of Man
DESCRIPTION:
URL:https://cswilliamsburg.org/event/in-person-online-church-service-subject-god-the-preserver-of-man-8/
LOCATION:First Church of Christ\, Scientist\, 620 Jamestown Road\, Williamsburg\, VA\, 23185\, United States
END:VEVENT
BEGIN:VEVENT
DTSTART;TZID=America/New_York:20260617T190000
DTEND;TZID=America/New_York:20260617T200000
DTSTAMP:20260424T165307
CREATED:20260321T152155Z
LAST-MODIFIED:20260321T152155Z
UID:10001264-1781722800-1781726400@cswilliamsburg.org
SUMMARY:In-person & Online Testimony Meeting
DESCRIPTION:
URL:https://cswilliamsburg.org/event/in-person-online-testimony-meeting-217/
LOCATION:First Church of Christ\, Scientist\, 620 Jamestown Road\, Williamsburg\, VA\, 23185\, United States
END:VEVENT
BEGIN:VEVENT
DTSTART;TZID=America/New_York:20260621T110000
DTEND;TZID=America/New_York:20260621T120000
DTSTAMP:20260424T165307
CREATED:20260321T150904Z
LAST-MODIFIED:20260321T150904Z
UID:10001251-1782039600-1782043200@cswilliamsburg.org
SUMMARY:In-person & Online Church Service - Subject: Is the Universe\, Including Man\, Evolved by Atomic Force?
DESCRIPTION:
URL:https://cswilliamsburg.org/event/in-person-online-church-service-subject-is-the-universe-including-man-evolved-by-atomic-force-8/
LOCATION:First Church of Christ\, Scientist\, 620 Jamestown Road\, Williamsburg\, VA\, 23185\, United States
END:VEVENT
BEGIN:VEVENT
DTSTART;TZID=America/New_York:20260624T190000
DTEND;TZID=America/New_York:20260624T200000
DTSTAMP:20260424T165307
CREATED:20260321T152251Z
LAST-MODIFIED:20260321T152251Z
UID:10001265-1782327600-1782331200@cswilliamsburg.org
SUMMARY:In-person & Online Testimony Meeting
DESCRIPTION:
URL:https://cswilliamsburg.org/event/in-person-online-testimony-meeting-218/
LOCATION:First Church of Christ\, Scientist\, 620 Jamestown Road\, Williamsburg\, VA\, 23185\, United States
END:VEVENT
BEGIN:VEVENT
DTSTART;TZID=America/New_York:20260628T110000
DTEND;TZID=America/New_York:20260628T120000
DTSTAMP:20260424T165307
CREATED:20260321T151003Z
LAST-MODIFIED:20260321T151003Z
UID:10001252-1782644400-1782648000@cswilliamsburg.org
SUMMARY:In-person & Online Church Service - Subject: Christian Science
DESCRIPTION:
URL:https://cswilliamsburg.org/event/in-person-online-church-service-subject-christian-science-8/
LOCATION:First Church of Christ\, Scientist\, 620 Jamestown Road\, Williamsburg\, VA\, 23185\, United States
END:VEVENT
END:VCALENDAR