BEGIN:VCALENDAR
VERSION:2.0
PRODID:-//First Church of Christ, Scientist Williamsburg, Virginia - ECPv6.15.20//NONSGML v1.0//EN
CALSCALE:GREGORIAN
METHOD:PUBLISH
X-WR-CALNAME:First Church of Christ, Scientist Williamsburg, Virginia
X-ORIGINAL-URL:https://cswilliamsburg.org
X-WR-CALDESC:Events for First Church of Christ, Scientist Williamsburg, Virginia
REFRESH-INTERVAL;VALUE=DURATION:PT1H
X-Robots-Tag:noindex
X-PUBLISHED-TTL:PT1H
BEGIN:VTIMEZONE
TZID:America/New_York
BEGIN:DAYLIGHT
TZOFFSETFROM:-0500
TZOFFSETTO:-0400
TZNAME:EDT
DTSTART:20240310T070000
END:DAYLIGHT
BEGIN:STANDARD
TZOFFSETFROM:-0400
TZOFFSETTO:-0500
TZNAME:EST
DTSTART:20241103T060000
END:STANDARD
BEGIN:DAYLIGHT
TZOFFSETFROM:-0500
TZOFFSETTO:-0400
TZNAME:EDT
DTSTART:20250309T070000
END:DAYLIGHT
BEGIN:STANDARD
TZOFFSETFROM:-0400
TZOFFSETTO:-0500
TZNAME:EST
DTSTART:20251102T060000
END:STANDARD
BEGIN:DAYLIGHT
TZOFFSETFROM:-0500
TZOFFSETTO:-0400
TZNAME:EDT
DTSTART:20260308T070000
END:DAYLIGHT
BEGIN:STANDARD
TZOFFSETFROM:-0400
TZOFFSETTO:-0500
TZNAME:EST
DTSTART:20261101T060000
END:STANDARD
BEGIN:DAYLIGHT
TZOFFSETFROM:-0500
TZOFFSETTO:-0400
TZNAME:EDT
DTSTART:20270314T070000
END:DAYLIGHT
BEGIN:STANDARD
TZOFFSETFROM:-0400
TZOFFSETTO:-0500
TZNAME:EST
DTSTART:20271107T060000
END:STANDARD
END:VTIMEZONE
BEGIN:VEVENT
DTSTART;TZID=America/New_York:20260329T140000
DTEND;TZID=America/New_York:20260329T150000
DTSTAMP:20260424T165308
CREATED:20251207T194714Z
LAST-MODIFIED:20251207T194714Z
UID:10001236-1774792800-1774796400@cswilliamsburg.org
SUMMARY:Christian Science Lecture
DESCRIPTION:See Special Events for details.
URL:https://cswilliamsburg.org/event/christian-science-lecture-3/
LOCATION:Williamsburg Regional Library\, 515 Scotland Street\, Williamsburg\, VA\, 23185\, United States
END:VEVENT
BEGIN:VEVENT
DTSTART;TZID=America/New_York:20260329T110000
DTEND;TZID=America/New_York:20260329T120000
DTSTAMP:20260424T165308
CREATED:20251207T192803Z
LAST-MODIFIED:20251207T192803Z
UID:10001223-1774782000-1774785600@cswilliamsburg.org
SUMMARY:In-person & Online Church Service - Subject: Reality
DESCRIPTION:
URL:https://cswilliamsburg.org/event/in-person-online-church-service-subject-reality-8/
LOCATION:First Church of Christ\, Scientist\, 620 Jamestown Road\, Williamsburg\, VA\, 23185\, United States
END:VEVENT
BEGIN:VEVENT
DTSTART;TZID=America/New_York:20260325T190000
DTEND;TZID=America/New_York:20260325T200000
DTSTAMP:20260424T165308
CREATED:20251207T194136Z
LAST-MODIFIED:20251207T194136Z
UID:10001235-1774465200-1774468800@cswilliamsburg.org
SUMMARY:In-person & Online Testimony Meeting
DESCRIPTION:
URL:https://cswilliamsburg.org/event/in-person-online-testimony-meeting-205/
LOCATION:First Church of Christ\, Scientist\, 620 Jamestown Road\, Williamsburg\, VA\, 23185\, United States
END:VEVENT
BEGIN:VEVENT
DTSTART;TZID=America/New_York:20260322T110000
DTEND;TZID=America/New_York:20260322T120000
DTSTAMP:20260424T165308
CREATED:20251207T192651Z
LAST-MODIFIED:20251207T192651Z
UID:10001222-1774177200-1774180800@cswilliamsburg.org
SUMMARY:In-person & Online Church Service - Subject: Matter
DESCRIPTION:
URL:https://cswilliamsburg.org/event/in-person-online-church-service-subject-matter-8/
LOCATION:First Church of Christ\, Scientist\, 620 Jamestown Road\, Williamsburg\, VA\, 23185\, United States
END:VEVENT
BEGIN:VEVENT
DTSTART;TZID=America/New_York:20260318T190000
DTEND;TZID=America/New_York:20260318T200000
DTSTAMP:20260424T165308
CREATED:20251207T194044Z
LAST-MODIFIED:20251207T194044Z
UID:10001234-1773860400-1773864000@cswilliamsburg.org
SUMMARY:In-person & Online Testimony Meeting
DESCRIPTION:
URL:https://cswilliamsburg.org/event/in-person-online-testimony-meeting-204/
LOCATION:First Church of Christ\, Scientist\, 620 Jamestown Road\, Williamsburg\, VA\, 23185\, United States
END:VEVENT
BEGIN:VEVENT
DTSTART;TZID=America/New_York:20260317T140000
DTEND;TZID=America/New_York:20260317T143000
DTSTAMP:20260424T165308
CREATED:20260307T151730Z
LAST-MODIFIED:20260307T151730Z
UID:10001238-1773756000-1773757800@cswilliamsburg.org
SUMMARY:Reading of the Sermon on the Mount
DESCRIPTION:
URL:https://cswilliamsburg.org/event/reading-of-the-sermon-on-the-mount-2/
LOCATION:First Church Reading Room\, 626 Jamestown Rd.\, Wiliamsburg\, VA\, 23185\, United States
END:VEVENT
BEGIN:VEVENT
DTSTART;TZID=America/New_York:20260315T110000
DTEND;TZID=America/New_York:20260315T120000
DTSTAMP:20260424T165308
CREATED:20251207T192554Z
LAST-MODIFIED:20251207T192554Z
UID:10001221-1773572400-1773576000@cswilliamsburg.org
SUMMARY:In-person & Online Church Service - Subject: Substance
DESCRIPTION:
URL:https://cswilliamsburg.org/event/in-person-online-church-service-subject-substance-8/
LOCATION:First Church of Christ\, Scientist\, 620 Jamestown Road\, Williamsburg\, VA\, 23185\, United States
END:VEVENT
BEGIN:VEVENT
DTSTART;TZID=America/New_York:20260311T190000
DTEND;TZID=America/New_York:20260311T200000
DTSTAMP:20260424T165308
CREATED:20251207T193950Z
LAST-MODIFIED:20251207T193950Z
UID:10001233-1773255600-1773259200@cswilliamsburg.org
SUMMARY:In-person & Online Testimony Meeting
DESCRIPTION:
URL:https://cswilliamsburg.org/event/in-person-online-testimony-meeting-203/
LOCATION:First Church of Christ\, Scientist\, 620 Jamestown Road\, Williamsburg\, VA\, 23185\, United States
END:VEVENT
BEGIN:VEVENT
DTSTART;TZID=America/New_York:20260308T110000
DTEND;TZID=America/New_York:20260308T120000
DTSTAMP:20260424T165308
CREATED:20251207T192459Z
LAST-MODIFIED:20251207T192459Z
UID:10001220-1772967600-1772971200@cswilliamsburg.org
SUMMARY:In-person & Online Church Service - Subject: Man
DESCRIPTION:
URL:https://cswilliamsburg.org/event/in-person-online-church-service-subject-man-8/
LOCATION:First Church of Christ\, Scientist\, 620 Jamestown Road\, Williamsburg\, VA\, 23185\, United States
END:VEVENT
BEGIN:VEVENT
DTSTART;TZID=America/New_York:20260304T190000
DTEND;TZID=America/New_York:20260304T200000
DTSTAMP:20260424T165308
CREATED:20251207T193858Z
LAST-MODIFIED:20251207T193858Z
UID:10001232-1772650800-1772654400@cswilliamsburg.org
SUMMARY:In-person & Online Testimony Meeting
DESCRIPTION:
URL:https://cswilliamsburg.org/event/in-person-online-testimony-meeting-202/
LOCATION:First Church of Christ\, Scientist\, 620 Jamestown Road\, Williamsburg\, VA\, 23185\, United States
END:VEVENT
BEGIN:VEVENT
DTSTART;TZID=America/New_York:20260301T110000
DTEND;TZID=America/New_York:20260301T120000
DTSTAMP:20260424T165308
CREATED:20251207T192356Z
LAST-MODIFIED:20251207T192356Z
UID:10001219-1772362800-1772366400@cswilliamsburg.org
SUMMARY:In-person & Online Church Service - Subject: Christ Jesus
DESCRIPTION:
URL:https://cswilliamsburg.org/event/in-person-online-church-service-subject-christ-jesus-9/
LOCATION:First Church of Christ\, Scientist\, 620 Jamestown Road\, Williamsburg\, VA\, 23185\, United States
END:VEVENT
BEGIN:VEVENT
DTSTART;TZID=America/New_York:20260225T190000
DTEND;TZID=America/New_York:20260225T200000
DTSTAMP:20260424T165308
CREATED:20251207T193804Z
LAST-MODIFIED:20251207T193804Z
UID:10001231-1772046000-1772049600@cswilliamsburg.org
SUMMARY:In-person & Online Testimony Meeting
DESCRIPTION:
URL:https://cswilliamsburg.org/event/in-person-online-testimony-meeting-201/
LOCATION:First Church of Christ\, Scientist\, 620 Jamestown Road\, Williamsburg\, VA\, 23185\, United States
END:VEVENT
BEGIN:VEVENT
DTSTART;TZID=America/New_York:20260222T110000
DTEND;TZID=America/New_York:20260222T120000
DTSTAMP:20260424T165308
CREATED:20251207T192237Z
LAST-MODIFIED:20251207T192237Z
UID:10001218-1771758000-1771761600@cswilliamsburg.org
SUMMARY:In-person & Online Church Service - Subject: Mind
DESCRIPTION:
URL:https://cswilliamsburg.org/event/in-person-online-church-service-subject-mind-7/
LOCATION:First Church of Christ\, Scientist\, 620 Jamestown Road\, Williamsburg\, VA\, 23185\, United States
END:VEVENT
BEGIN:VEVENT
DTSTART;TZID=America/New_York:20260218T190000
DTEND;TZID=America/New_York:20260218T200000
DTSTAMP:20260424T165308
CREATED:20251207T193658Z
LAST-MODIFIED:20251207T193658Z
UID:10001230-1771441200-1771444800@cswilliamsburg.org
SUMMARY:In-person & Online Testimony Meeting
DESCRIPTION:
URL:https://cswilliamsburg.org/event/in-person-online-testimony-meeting-200/
LOCATION:First Church of Christ\, Scientist\, 620 Jamestown Road\, Williamsburg\, VA\, 23185\, United States
END:VEVENT
BEGIN:VEVENT
DTSTART;TZID=America/New_York:20260217T140000
DTEND;TZID=America/New_York:20260217T143000
DTSTAMP:20260424T165308
CREATED:20260211T191532Z
LAST-MODIFIED:20260211T191629Z
UID:10001237-1771336800-1771338600@cswilliamsburg.org
SUMMARY:Reading of the Sermon on the Mount
DESCRIPTION:See “Special Events” for more details.
URL:https://cswilliamsburg.org/event/reading-of-the-sermon-on-the-mount/
LOCATION:First Church Reading Room\, 626 Jamestown Rd.\, Wiliamsburg\, VA\, 23185\, United States
END:VEVENT
BEGIN:VEVENT
DTSTART;TZID=America/New_York:20260215T110000
DTEND;TZID=America/New_York:20260215T120000
DTSTAMP:20260424T165308
CREATED:20251207T192147Z
LAST-MODIFIED:20251207T192147Z
UID:10001217-1771153200-1771156800@cswilliamsburg.org
SUMMARY:In-person & Online Church Service - Subject: Soul
DESCRIPTION:
URL:https://cswilliamsburg.org/event/in-person-online-church-service-subject-soul-8/
LOCATION:First Church of Christ\, Scientist\, 620 Jamestown Road\, Williamsburg\, VA\, 23185\, United States
END:VEVENT
BEGIN:VEVENT
DTSTART;TZID=America/New_York:20260211T190000
DTEND;TZID=America/New_York:20260211T200000
DTSTAMP:20260424T165308
CREATED:20251207T193559Z
LAST-MODIFIED:20251207T193559Z
UID:10001229-1770836400-1770840000@cswilliamsburg.org
SUMMARY:In-person & Online Testimony Meeting
DESCRIPTION:
URL:https://cswilliamsburg.org/event/in-person-online-testimony-meeting-199/
LOCATION:First Church of Christ\, Scientist\, 620 Jamestown Road\, Williamsburg\, VA\, 23185\, United States
END:VEVENT
BEGIN:VEVENT
DTSTART;TZID=America/New_York:20260208T110000
DTEND;TZID=America/New_York:20260208T120000
DTSTAMP:20260424T165308
CREATED:20251207T192055Z
LAST-MODIFIED:20251207T192055Z
UID:10001216-1770548400-1770552000@cswilliamsburg.org
SUMMARY:In-person & Online Church Service - Subject: Spirit
DESCRIPTION:
URL:https://cswilliamsburg.org/event/in-person-online-church-service-subject-spirit-8/
LOCATION:First Church of Christ\, Scientist\, 620 Jamestown Road\, Williamsburg\, VA\, 23185\, United States
END:VEVENT
BEGIN:VEVENT
DTSTART;TZID=America/New_York:20260204T190000
DTEND;TZID=America/New_York:20260204T200000
DTSTAMP:20260424T165308
CREATED:20251207T193424Z
LAST-MODIFIED:20251207T193424Z
UID:10001228-1770231600-1770235200@cswilliamsburg.org
SUMMARY:In-person & Online Testimony Meeting
DESCRIPTION:
URL:https://cswilliamsburg.org/event/in-person-online-testimony-meeting-198/
LOCATION:First Church of Christ\, Scientist\, 620 Jamestown Road\, Williamsburg\, VA\, 23185\, United States
END:VEVENT
BEGIN:VEVENT
DTSTART;TZID=America/New_York:20260201T110000
DTEND;TZID=America/New_York:20260201T120000
DTSTAMP:20260424T165308
CREATED:20251207T192013Z
LAST-MODIFIED:20251207T192013Z
UID:10001215-1769943600-1769947200@cswilliamsburg.org
SUMMARY:In-person & Online Church Service - Subject: Love
DESCRIPTION:
URL:https://cswilliamsburg.org/event/in-person-online-church-service-subject-love-8/
LOCATION:First Church of Christ\, Scientist\, 620 Jamestown Road\, Williamsburg\, VA\, 23185\, United States
END:VEVENT
BEGIN:VEVENT
DTSTART;TZID=America/New_York:20260128T190000
DTEND;TZID=America/New_York:20260128T200000
DTSTAMP:20260424T165308
CREATED:20251207T193331Z
LAST-MODIFIED:20251207T193331Z
UID:10001227-1769626800-1769630400@cswilliamsburg.org
SUMMARY:In-person & Online Testimony Meeting
DESCRIPTION:
URL:https://cswilliamsburg.org/event/in-person-online-testimony-meeting-197/
LOCATION:First Church of Christ\, Scientist\, 620 Jamestown Road\, Williamsburg\, VA\, 23185\, United States
END:VEVENT
BEGIN:VEVENT
DTSTART;TZID=America/New_York:20260125T110000
DTEND;TZID=America/New_York:20260125T120000
DTSTAMP:20260424T165308
CREATED:20251207T191919Z
LAST-MODIFIED:20251207T191919Z
UID:10001214-1769338800-1769342400@cswilliamsburg.org
SUMMARY:In-person & Online Church Service - Subject: Truth
DESCRIPTION:
URL:https://cswilliamsburg.org/event/in-person-online-church-service-subject-truth-8/
LOCATION:First Church of Christ\, Scientist\, 620 Jamestown Road\, Williamsburg\, VA\, 23185\, United States
END:VEVENT
BEGIN:VEVENT
DTSTART;TZID=America/New_York:20260121T190000
DTEND;TZID=America/New_York:20260121T200000
DTSTAMP:20260424T165308
CREATED:20251207T193241Z
LAST-MODIFIED:20251207T193241Z
UID:10001226-1769022000-1769025600@cswilliamsburg.org
SUMMARY:In-person & Online Testimony Meeting
DESCRIPTION:
URL:https://cswilliamsburg.org/event/in-person-online-testimony-meeting-196/
LOCATION:First Church of Christ\, Scientist\, 620 Jamestown Road\, Williamsburg\, VA\, 23185\, United States
END:VEVENT
BEGIN:VEVENT
DTSTART;TZID=America/New_York:20260118T110000
DTEND;TZID=America/New_York:20260118T120000
DTSTAMP:20260424T165308
CREATED:20251207T191817Z
LAST-MODIFIED:20251207T191817Z
UID:10001213-1768734000-1768737600@cswilliamsburg.org
SUMMARY:In-person & Online Church Service - Subject: Life
DESCRIPTION:
URL:https://cswilliamsburg.org/event/in-person-online-church-service-subject-life-8/
LOCATION:First Church of Christ\, Scientist\, 620 Jamestown Road\, Williamsburg\, VA\, 23185\, United States
END:VEVENT
BEGIN:VEVENT
DTSTART;TZID=America/New_York:20260114T190000
DTEND;TZID=America/New_York:20260114T200000
DTSTAMP:20260424T165308
CREATED:20251207T193150Z
LAST-MODIFIED:20251207T193150Z
UID:10001225-1768417200-1768420800@cswilliamsburg.org
SUMMARY:In-person & Online Testimony Meeting
DESCRIPTION:
URL:https://cswilliamsburg.org/event/in-person-online-testimony-meeting-195/
LOCATION:First Church of Christ\, Scientist\, 620 Jamestown Road\, Williamsburg\, VA\, 23185\, United States
END:VEVENT
BEGIN:VEVENT
DTSTART;TZID=America/New_York:20260111T110000
DTEND;TZID=America/New_York:20260111T120000
DTSTAMP:20260424T165308
CREATED:20251207T191714Z
LAST-MODIFIED:20251207T191714Z
UID:10001212-1768129200-1768132800@cswilliamsburg.org
SUMMARY:In-person & Online Church Service - Subject: Sacrament
DESCRIPTION:
URL:https://cswilliamsburg.org/event/in-person-online-church-service-subject-sacrament-8/
LOCATION:First Church of Christ\, Scientist\, 620 Jamestown Road\, Williamsburg\, VA\, 23185\, United States
END:VEVENT
BEGIN:VEVENT
DTSTART;TZID=America/New_York:20260107T190000
DTEND;TZID=America/New_York:20260107T200000
DTSTAMP:20260424T165308
CREATED:20251207T193052Z
LAST-MODIFIED:20251207T193052Z
UID:10001224-1767812400-1767816000@cswilliamsburg.org
SUMMARY:In-person & Online Testimony Meeting
DESCRIPTION:
URL:https://cswilliamsburg.org/event/in-person-online-testimony-meeting-194/
LOCATION:First Church of Christ\, Scientist\, 620 Jamestown Road\, Williamsburg\, VA\, 23185\, United States
END:VEVENT
BEGIN:VEVENT
DTSTART;TZID=America/New_York:20260104T110000
DTEND;TZID=America/New_York:20260104T120000
DTSTAMP:20260424T165308
CREATED:20251207T191614Z
LAST-MODIFIED:20251207T191614Z
UID:10001211-1767524400-1767528000@cswilliamsburg.org
SUMMARY:In-person & Online Church Service - Subject: God
DESCRIPTION:
URL:https://cswilliamsburg.org/event/in-person-online-church-service-subject-god-7/
LOCATION:First Church of Christ\, Scientist\, 620 Jamestown Road\, Williamsburg\, VA\, 23185\, United States
END:VEVENT
BEGIN:VEVENT
DTSTART;TZID=America/New_York:20251231T190000
DTEND;TZID=America/New_York:20251231T200000
DTSTAMP:20260424T165308
CREATED:20250920T193420Z
LAST-MODIFIED:20250920T193420Z
UID:10001210-1767207600-1767211200@cswilliamsburg.org
SUMMARY:In-person & Online Testimony Meeting
DESCRIPTION:
URL:https://cswilliamsburg.org/event/in-person-online-testimony-meeting-193/
LOCATION:First Church of Christ\, Scientist\, 620 Jamestown Road\, Williamsburg\, VA\, 23185\, United States
END:VEVENT
BEGIN:VEVENT
DTSTART;TZID=America/New_York:20251228T110000
DTEND;TZID=America/New_York:20251228T120000
DTSTAMP:20260424T165308
CREATED:20250920T192230Z
LAST-MODIFIED:20250920T192230Z
UID:10001196-1766919600-1766923200@cswilliamsburg.org
SUMMARY:In-person & Online Church Service - Subject: Christian Science
DESCRIPTION:
URL:https://cswilliamsburg.org/event/in-person-online-church-service-subject-christian-science-7/
LOCATION:First Church of Christ\, Scientist\, 620 Jamestown Road\, Williamsburg\, VA\, 23185\, United States
END:VEVENT
END:VCALENDAR