BEGIN:VCALENDAR
VERSION:2.0
PRODID:-//First Church of Christ, Scientist Williamsburg, Virginia - ECPv6.15.20//NONSGML v1.0//EN
CALSCALE:GREGORIAN
METHOD:PUBLISH
X-WR-CALNAME:First Church of Christ, Scientist Williamsburg, Virginia
X-ORIGINAL-URL:https://cswilliamsburg.org
X-WR-CALDESC:Events for First Church of Christ, Scientist Williamsburg, Virginia
REFRESH-INTERVAL;VALUE=DURATION:PT1H
X-Robots-Tag:noindex
X-PUBLISHED-TTL:PT1H
BEGIN:VTIMEZONE
TZID:America/New_York
BEGIN:DAYLIGHT
TZOFFSETFROM:-0500
TZOFFSETTO:-0400
TZNAME:EDT
DTSTART:20240310T070000
END:DAYLIGHT
BEGIN:STANDARD
TZOFFSETFROM:-0400
TZOFFSETTO:-0500
TZNAME:EST
DTSTART:20241103T060000
END:STANDARD
BEGIN:DAYLIGHT
TZOFFSETFROM:-0500
TZOFFSETTO:-0400
TZNAME:EDT
DTSTART:20250309T070000
END:DAYLIGHT
BEGIN:STANDARD
TZOFFSETFROM:-0400
TZOFFSETTO:-0500
TZNAME:EST
DTSTART:20251102T060000
END:STANDARD
BEGIN:DAYLIGHT
TZOFFSETFROM:-0500
TZOFFSETTO:-0400
TZNAME:EDT
DTSTART:20260308T070000
END:DAYLIGHT
BEGIN:STANDARD
TZOFFSETFROM:-0400
TZOFFSETTO:-0500
TZNAME:EST
DTSTART:20261101T060000
END:STANDARD
END:VTIMEZONE
BEGIN:VEVENT
DTSTART;TZID=America/New_York:20251029T190000
DTEND;TZID=America/New_York:20251029T200000
DTSTAMP:20260425T002154
CREATED:20250920T192732Z
LAST-MODIFIED:20250920T192732Z
UID:10001201-1761764400-1761768000@cswilliamsburg.org
SUMMARY:In-person & Online Testimony Meeting
DESCRIPTION:
URL:https://cswilliamsburg.org/event/in-person-online-testimony-meeting-184/
LOCATION:First Church of Christ\, Scientist\, 620 Jamestown Road\, Williamsburg\, VA\, 23185\, United States
END:VEVENT
BEGIN:VEVENT
DTSTART;TZID=America/New_York:20251026T110000
DTEND;TZID=America/New_York:20251026T120000
DTSTAMP:20260425T002154
CREATED:20250920T190907Z
LAST-MODIFIED:20250920T190907Z
UID:10001186-1761476400-1761480000@cswilliamsburg.org
SUMMARY:In-person & Online Church Service - Subject: Probation After Death
DESCRIPTION:
URL:https://cswilliamsburg.org/event/in-person-online-church-service-subject-probation-after-death-7/
LOCATION:First Church of Christ\, Scientist\, 620 Jamestown Road\, Williamsburg\, VA\, 23185\, United States
END:VEVENT
BEGIN:VEVENT
DTSTART;TZID=America/New_York:20251022T190000
DTEND;TZID=America/New_York:20251022T200000
DTSTAMP:20260425T002154
CREATED:20250920T192647Z
LAST-MODIFIED:20250920T192647Z
UID:10001200-1761159600-1761163200@cswilliamsburg.org
SUMMARY:In-person & Online Testimony Meeting
DESCRIPTION:
URL:https://cswilliamsburg.org/event/in-person-online-testimony-meeting-183/
LOCATION:First Church of Christ\, Scientist\, 620 Jamestown Road\, Williamsburg\, VA\, 23185\, United States
END:VEVENT
BEGIN:VEVENT
DTSTART;TZID=America/New_York:20251019T110000
DTEND;TZID=America/New_York:20251019T120000
DTSTAMP:20260425T002154
CREATED:20250920T190801Z
LAST-MODIFIED:20250920T190801Z
UID:10001185-1760871600-1760875200@cswilliamsburg.org
SUMMARY:In-person & Online Church Service - Subject: Doctrine of Atonement
DESCRIPTION:
URL:https://cswilliamsburg.org/event/in-person-online-church-service-subject-doctrine-of-atonement-7/
LOCATION:First Church of Christ\, Scientist\, 620 Jamestown Road\, Williamsburg\, VA\, 23185\, United States
END:VEVENT
BEGIN:VEVENT
DTSTART;TZID=America/New_York:20251015T190000
DTEND;TZID=America/New_York:20251015T200000
DTSTAMP:20260425T002154
CREATED:20250920T192553Z
LAST-MODIFIED:20250920T192553Z
UID:10001199-1760554800-1760558400@cswilliamsburg.org
SUMMARY:In-person & Online Testimony Meeting
DESCRIPTION:
URL:https://cswilliamsburg.org/event/in-person-online-testimony-meeting-182/
LOCATION:First Church of Christ\, Scientist\, 620 Jamestown Road\, Williamsburg\, VA\, 23185\, United States
END:VEVENT
BEGIN:VEVENT
DTSTART;TZID=America/New_York:20251012T110000
DTEND;TZID=America/New_York:20251012T120000
DTSTAMP:20260425T002154
CREATED:20250920T190655Z
LAST-MODIFIED:20250920T190655Z
UID:10001184-1760266800-1760270400@cswilliamsburg.org
SUMMARY:In-person & Online Church Service - Subject: Are Sin\, Disease\, and Death Real?
DESCRIPTION:
URL:https://cswilliamsburg.org/event/in-person-online-church-service-subject-are-sin-disease-and-death-real-6/
LOCATION:First Church of Christ\, Scientist\, 620 Jamestown Road\, Williamsburg\, VA\, 23185\, United States
END:VEVENT
BEGIN:VEVENT
DTSTART;TZID=America/New_York:20251008T190000
DTEND;TZID=America/New_York:20251008T200000
DTSTAMP:20260425T002154
CREATED:20250920T192500Z
LAST-MODIFIED:20250920T192500Z
UID:10001198-1759950000-1759953600@cswilliamsburg.org
SUMMARY:In-person & Online Testimony Meeting
DESCRIPTION:
URL:https://cswilliamsburg.org/event/in-person-online-testimony-meeting-181/
LOCATION:First Church of Christ\, Scientist\, 620 Jamestown Road\, Williamsburg\, VA\, 23185\, United States
END:VEVENT
BEGIN:VEVENT
DTSTART;TZID=America/New_York:20251005T110000
DTEND;TZID=America/New_York:20251005T120000
DTSTAMP:20260425T002154
CREATED:20250920T190520Z
LAST-MODIFIED:20250920T190520Z
UID:10001183-1759662000-1759665600@cswilliamsburg.org
SUMMARY:In-person & Online Church Service - Subject: Unreality
DESCRIPTION:
URL:https://cswilliamsburg.org/event/in-person-online-church-service-subject-unreality-8/
LOCATION:First Church of Christ\, Scientist\, 620 Jamestown Road\, Williamsburg\, VA\, 23185\, United States
END:VEVENT
BEGIN:VEVENT
DTSTART;TZID=America/New_York:20251001T190000
DTEND;TZID=America/New_York:20251001T200000
DTSTAMP:20260425T002154
CREATED:20250920T192407Z
LAST-MODIFIED:20250920T192407Z
UID:10001197-1759345200-1759348800@cswilliamsburg.org
SUMMARY:In-person & Online Testimony Meeting
DESCRIPTION:
URL:https://cswilliamsburg.org/event/in-person-online-testimony-meeting-180/
LOCATION:First Church of Christ\, Scientist\, 620 Jamestown Road\, Williamsburg\, VA\, 23185\, United States
END:VEVENT
BEGIN:VEVENT
DTSTART;TZID=America/New_York:20250928T110000
DTEND;TZID=America/New_York:20250928T120000
DTSTAMP:20260425T002154
CREATED:20250702T165531Z
LAST-MODIFIED:20250702T165531Z
UID:10001169-1759057200-1759060800@cswilliamsburg.org
SUMMARY:In-person & Online Church Service - Subject: Reality
DESCRIPTION:
URL:https://cswilliamsburg.org/event/in-person-online-church-service-subject-reality-7/
LOCATION:First Church of Christ\, Scientist\, 620 Jamestown Road\, Williamsburg\, VA\, 23185\, United States
END:VEVENT
BEGIN:VEVENT
DTSTART;TZID=America/New_York:20250924T190000
DTEND;TZID=America/New_York:20250924T200000
DTSTAMP:20260425T002154
CREATED:20250702T170519Z
LAST-MODIFIED:20250702T170519Z
UID:10001182-1758740400-1758744000@cswilliamsburg.org
SUMMARY:In-person & Online Testimony Meeting
DESCRIPTION:
URL:https://cswilliamsburg.org/event/in-person-online-testimony-meeting-179/
LOCATION:First Church of Christ\, Scientist\, 620 Jamestown Road\, Williamsburg\, VA\, 23185\, United States
END:VEVENT
BEGIN:VEVENT
DTSTART;TZID=America/New_York:20250921T110000
DTEND;TZID=America/New_York:20250921T120000
DTSTAMP:20260425T002154
CREATED:20250702T165448Z
LAST-MODIFIED:20250702T165448Z
UID:10001168-1758452400-1758456000@cswilliamsburg.org
SUMMARY:In-person & Online Church Service - Subject: Matter
DESCRIPTION:
URL:https://cswilliamsburg.org/event/in-person-online-church-service-subject-matter-7/
LOCATION:First Church of Christ\, Scientist\, 620 Jamestown Road\, Williamsburg\, VA\, 23185\, United States
END:VEVENT
BEGIN:VEVENT
DTSTART;TZID=America/New_York:20250917T190000
DTEND;TZID=America/New_York:20250917T200000
DTSTAMP:20260425T002154
CREATED:20250702T170443Z
LAST-MODIFIED:20250702T170443Z
UID:10001181-1758135600-1758139200@cswilliamsburg.org
SUMMARY:In-person & Online Testimony Meeting
DESCRIPTION:
URL:https://cswilliamsburg.org/event/in-person-online-testimony-meeting-178/
LOCATION:First Church of Christ\, Scientist\, 620 Jamestown Road\, Williamsburg\, VA\, 23185\, United States
END:VEVENT
BEGIN:VEVENT
DTSTART;TZID=America/New_York:20250914T110000
DTEND;TZID=America/New_York:20250914T120000
DTSTAMP:20260425T002154
CREATED:20250702T165403Z
LAST-MODIFIED:20250702T165403Z
UID:10001167-1757847600-1757851200@cswilliamsburg.org
SUMMARY:In-person & Online Church Service - Subject: Substance
DESCRIPTION:
URL:https://cswilliamsburg.org/event/in-person-online-church-service-subject-substance-7/
LOCATION:First Church of Christ\, Scientist\, 620 Jamestown Road\, Williamsburg\, VA\, 23185\, United States
END:VEVENT
BEGIN:VEVENT
DTSTART;TZID=America/New_York:20250910T190000
DTEND;TZID=America/New_York:20250910T200000
DTSTAMP:20260425T002154
CREATED:20250702T170406Z
LAST-MODIFIED:20250702T170406Z
UID:10001180-1757530800-1757534400@cswilliamsburg.org
SUMMARY:In-person & Online Testimony Meeting
DESCRIPTION:
URL:https://cswilliamsburg.org/event/in-person-online-testimony-meeting-177/
LOCATION:First Church of Christ\, Scientist\, 620 Jamestown Road\, Williamsburg\, VA\, 23185\, United States
END:VEVENT
BEGIN:VEVENT
DTSTART;TZID=America/New_York:20250907T110000
DTEND;TZID=America/New_York:20250907T120000
DTSTAMP:20260425T002154
CREATED:20250702T165315Z
LAST-MODIFIED:20250702T165315Z
UID:10001166-1757242800-1757246400@cswilliamsburg.org
SUMMARY:In-person & Online Church Service - Subject: Man
DESCRIPTION:
URL:https://cswilliamsburg.org/event/in-person-online-church-service-subject-man-7/
LOCATION:First Church of Christ\, Scientist\, 620 Jamestown Road\, Williamsburg\, VA\, 23185\, United States
END:VEVENT
BEGIN:VEVENT
DTSTART;TZID=America/New_York:20250903T190000
DTEND;TZID=America/New_York:20250903T200000
DTSTAMP:20260425T002154
CREATED:20250702T170326Z
LAST-MODIFIED:20250702T170326Z
UID:10001179-1756926000-1756929600@cswilliamsburg.org
SUMMARY:In-person & Online Testimony Meeting
DESCRIPTION:
URL:https://cswilliamsburg.org/event/in-person-online-testimony-meeting-176/
LOCATION:First Church of Christ\, Scientist\, 620 Jamestown Road\, Williamsburg\, VA\, 23185\, United States
END:VEVENT
BEGIN:VEVENT
DTSTART;TZID=America/New_York:20250831T110000
DTEND;TZID=America/New_York:20250831T120000
DTSTAMP:20260425T002154
CREATED:20250702T165231Z
LAST-MODIFIED:20250702T165231Z
UID:10001165-1756638000-1756641600@cswilliamsburg.org
SUMMARY:In-person & Online Church Service - Subject: Christ Jesus
DESCRIPTION:
URL:https://cswilliamsburg.org/event/in-person-online-church-service-subject-christ-jesus-8/
LOCATION:First Church of Christ\, Scientist\, 620 Jamestown Road\, Williamsburg\, VA\, 23185\, United States
END:VEVENT
BEGIN:VEVENT
DTSTART;TZID=America/New_York:20250827T190000
DTEND;TZID=America/New_York:20250827T200000
DTSTAMP:20260425T002154
CREATED:20250702T170250Z
LAST-MODIFIED:20250702T170250Z
UID:10001178-1756321200-1756324800@cswilliamsburg.org
SUMMARY:In-person & Online Testimony Meeting
DESCRIPTION:
URL:https://cswilliamsburg.org/event/in-person-online-testimony-meeting-175/
LOCATION:First Church of Christ\, Scientist\, 620 Jamestown Road\, Williamsburg\, VA\, 23185\, United States
END:VEVENT
BEGIN:VEVENT
DTSTART;TZID=America/New_York:20250824T110000
DTEND;TZID=America/New_York:20250824T120000
DTSTAMP:20260425T002154
CREATED:20250702T165137Z
LAST-MODIFIED:20250702T165137Z
UID:10001164-1756033200-1756036800@cswilliamsburg.org
SUMMARY:In-person & Online Church Service - Subject: Mind
DESCRIPTION:
URL:https://cswilliamsburg.org/event/in-person-online-church-service-subject-mind-6/
LOCATION:First Church of Christ\, Scientist\, 620 Jamestown Road\, Williamsburg\, VA\, 23185\, United States
END:VEVENT
BEGIN:VEVENT
DTSTART;TZID=America/New_York:20250820T190000
DTEND;TZID=America/New_York:20250820T200000
DTSTAMP:20260425T002154
CREATED:20250702T170215Z
LAST-MODIFIED:20250702T170215Z
UID:10001177-1755716400-1755720000@cswilliamsburg.org
SUMMARY:In-person & Online Testimony Meeting
DESCRIPTION:
URL:https://cswilliamsburg.org/event/in-person-online-testimony-meeting-174/
LOCATION:First Church of Christ\, Scientist\, 620 Jamestown Road\, Williamsburg\, VA\, 23185\, United States
END:VEVENT
BEGIN:VEVENT
DTSTART;TZID=America/New_York:20250817T110000
DTEND;TZID=America/New_York:20250817T120000
DTSTAMP:20260425T002154
CREATED:20250702T165053Z
LAST-MODIFIED:20250702T165053Z
UID:10001163-1755428400-1755432000@cswilliamsburg.org
SUMMARY:In-person & Online Church Service - Subject: Soul
DESCRIPTION:
URL:https://cswilliamsburg.org/event/in-person-online-church-service-subject-soul-7/
LOCATION:First Church of Christ\, Scientist\, 620 Jamestown Road\, Williamsburg\, VA\, 23185\, United States
END:VEVENT
BEGIN:VEVENT
DTSTART;TZID=America/New_York:20250813T190000
DTEND;TZID=America/New_York:20250813T200000
DTSTAMP:20260425T002154
CREATED:20250702T170135Z
LAST-MODIFIED:20250702T170135Z
UID:10001176-1755111600-1755115200@cswilliamsburg.org
SUMMARY:In-person & Online Testimony Meeting
DESCRIPTION:
URL:https://cswilliamsburg.org/event/in-person-online-testimony-meeting-173/
LOCATION:First Church of Christ\, Scientist\, 620 Jamestown Road\, Williamsburg\, VA\, 23185\, United States
END:VEVENT
BEGIN:VEVENT
DTSTART;TZID=America/New_York:20250810T110000
DTEND;TZID=America/New_York:20250810T120000
DTSTAMP:20260425T002154
CREATED:20250702T165003Z
LAST-MODIFIED:20250702T165003Z
UID:10001162-1754823600-1754827200@cswilliamsburg.org
SUMMARY:In-person & Online Church Service - Subject: Spirit
DESCRIPTION:
URL:https://cswilliamsburg.org/event/in-person-online-church-service-subject-spirit-7/
LOCATION:First Church of Christ\, Scientist\, 620 Jamestown Road\, Williamsburg\, VA\, 23185\, United States
END:VEVENT
BEGIN:VEVENT
DTSTART;TZID=America/New_York:20250806T190000
DTEND;TZID=America/New_York:20250806T200000
DTSTAMP:20260425T002154
CREATED:20250702T170057Z
LAST-MODIFIED:20250702T170057Z
UID:10001175-1754506800-1754510400@cswilliamsburg.org
SUMMARY:In-person & Online Testimony Meeting
DESCRIPTION:
URL:https://cswilliamsburg.org/event/in-person-online-testimony-meeting-172/
LOCATION:First Church of Christ\, Scientist\, 620 Jamestown Road\, Williamsburg\, VA\, 23185\, United States
END:VEVENT
BEGIN:VEVENT
DTSTART;TZID=America/New_York:20250803T110000
DTEND;TZID=America/New_York:20250803T120000
DTSTAMP:20260425T002154
CREATED:20250702T164916Z
LAST-MODIFIED:20250702T164916Z
UID:10001161-1754218800-1754222400@cswilliamsburg.org
SUMMARY:In-person & Online Church Service - Subject: Love
DESCRIPTION:
URL:https://cswilliamsburg.org/event/in-person-online-church-service-subject-love-7/
LOCATION:First Church of Christ\, Scientist\, 620 Jamestown Road\, Williamsburg\, VA\, 23185\, United States
END:VEVENT
BEGIN:VEVENT
DTSTART;TZID=America/New_York:20250730T190000
DTEND;TZID=America/New_York:20250730T200000
DTSTAMP:20260425T002154
CREATED:20250702T170018Z
LAST-MODIFIED:20250702T170018Z
UID:10001174-1753902000-1753905600@cswilliamsburg.org
SUMMARY:In-person & Online Testimony Meeting
DESCRIPTION:
URL:https://cswilliamsburg.org/event/in-person-online-testimony-meeting-171/
LOCATION:First Church of Christ\, Scientist\, 620 Jamestown Road\, Williamsburg\, VA\, 23185\, United States
END:VEVENT
BEGIN:VEVENT
DTSTART;TZID=America/New_York:20250727T110000
DTEND;TZID=America/New_York:20250727T120000
DTSTAMP:20260425T002154
CREATED:20250702T164832Z
LAST-MODIFIED:20250702T164832Z
UID:10001160-1753614000-1753617600@cswilliamsburg.org
SUMMARY:In-person & Online Church Service - Subject: Truth
DESCRIPTION:
URL:https://cswilliamsburg.org/event/in-person-online-church-service-subject-truth-7/
LOCATION:First Church of Christ\, Scientist\, 620 Jamestown Road\, Williamsburg\, VA\, 23185\, United States
END:VEVENT
BEGIN:VEVENT
DTSTART;TZID=America/New_York:20250723T190000
DTEND;TZID=America/New_York:20250723T200000
DTSTAMP:20260425T002154
CREATED:20250702T165940Z
LAST-MODIFIED:20250702T165940Z
UID:10001173-1753297200-1753300800@cswilliamsburg.org
SUMMARY:In-person & Online Testimony Meeting
DESCRIPTION:
URL:https://cswilliamsburg.org/event/in-person-online-testimony-meeting-170/
LOCATION:First Church of Christ\, Scientist\, 620 Jamestown Road\, Williamsburg\, VA\, 23185\, United States
END:VEVENT
BEGIN:VEVENT
DTSTART;TZID=America/New_York:20250720T110000
DTEND;TZID=America/New_York:20250720T120000
DTSTAMP:20260425T002154
CREATED:20250702T164747Z
LAST-MODIFIED:20250702T164747Z
UID:10001159-1753009200-1753012800@cswilliamsburg.org
SUMMARY:In-person & Online Church Service - Subject: Life
DESCRIPTION:
URL:https://cswilliamsburg.org/event/in-person-online-church-service-subject-life-7/
LOCATION:First Church of Christ\, Scientist\, 620 Jamestown Road\, Williamsburg\, VA\, 23185\, United States
END:VEVENT
END:VCALENDAR