BEGIN:VCALENDAR
VERSION:2.0
PRODID:-//First Church of Christ, Scientist Williamsburg, Virginia - ECPv6.15.20//NONSGML v1.0//EN
CALSCALE:GREGORIAN
METHOD:PUBLISH
X-WR-CALNAME:First Church of Christ, Scientist Williamsburg, Virginia
X-ORIGINAL-URL:https://cswilliamsburg.org
X-WR-CALDESC:Events for First Church of Christ, Scientist Williamsburg, Virginia
REFRESH-INTERVAL;VALUE=DURATION:PT1H
X-Robots-Tag:noindex
X-PUBLISHED-TTL:PT1H
BEGIN:VTIMEZONE
TZID:America/New_York
BEGIN:DAYLIGHT
TZOFFSETFROM:-0500
TZOFFSETTO:-0400
TZNAME:EDT
DTSTART:20250309T070000
END:DAYLIGHT
BEGIN:STANDARD
TZOFFSETFROM:-0400
TZOFFSETTO:-0500
TZNAME:EST
DTSTART:20251102T060000
END:STANDARD
BEGIN:DAYLIGHT
TZOFFSETFROM:-0500
TZOFFSETTO:-0400
TZNAME:EDT
DTSTART:20260308T070000
END:DAYLIGHT
BEGIN:STANDARD
TZOFFSETFROM:-0400
TZOFFSETTO:-0500
TZNAME:EST
DTSTART:20261101T060000
END:STANDARD
BEGIN:DAYLIGHT
TZOFFSETFROM:-0500
TZOFFSETTO:-0400
TZNAME:EDT
DTSTART:20270314T070000
END:DAYLIGHT
BEGIN:STANDARD
TZOFFSETFROM:-0400
TZOFFSETTO:-0500
TZNAME:EST
DTSTART:20271107T060000
END:STANDARD
END:VTIMEZONE
BEGIN:VEVENT
DTSTART;TZID=America/New_York:20260527T190000
DTEND;TZID=America/New_York:20260527T200000
DTSTAMP:20260424T150644
CREATED:20260321T151904Z
LAST-MODIFIED:20260321T151904Z
UID:10001261-1779908400-1779912000@cswilliamsburg.org
SUMMARY:In-person & Online Testimony Meeting
DESCRIPTION:
URL:https://cswilliamsburg.org/event/in-person-online-testimony-meeting-214/
LOCATION:First Church of Christ\, Scientist\, 620 Jamestown Road\, Williamsburg\, VA\, 23185\, United States
END:VEVENT
END:VCALENDAR